BEGIN:VCALENDAR
PRODID:-//eluceo/ical//2.0/EN
VERSION:2.0
CALSCALE:GREGORIAN
BEGIN:VEVENT
UID:41a849a1ff1365b8d89adec5ebc1de87
DTSTAMP:20260423T154848Z
SUMMARY:Gottesdienst
DESCRIPTION:&lt\;p&gt\;Pfarrer Tobias Zehnder&lt\;br /&gt\;&lt\;/p&gt\;
DTSTART;VALUE=DATE:20260424
LOCATION:Alterszentrum\, Hardstrasse 71
ORGANIZER:mailto:sekretariat@ref-birsfelden.ch
END:VEVENT
END:VCALENDAR
