BEGIN:VCALENDAR
PRODID:-//eluceo/ical//2.0/EN
VERSION:2.0
CALSCALE:GREGORIAN
BEGIN:VEVENT
UID:b1c00834c92122af6f3b2d5b761205e3
DTSTAMP:20260423T172748Z
SUMMARY:Konfirmation Gottesdienst mit Abendmahl
DESCRIPTION:&lt\;p&gt\;Pfarrerin Sibylle Baltisberger&lt\;br /&gt\;Kollekte
 : Kirchliche Jugendarbeit&lt\;/p&gt\;&lt\;p&gt\;09:15 - 09:45 Gebet für d
 ie Gemeinde im KGH&lt\;/p&gt\;&lt\;p&gt\;09:45 - 10:30 Kinderkirche im KGH
 &lt\;/p&gt\;
DTSTART;VALUE=DATE:20260426
LOCATION:Reformierte Kirche Birsfelden
ORGANIZER:mailto:sekretariat@ref-birsfelden.ch
END:VEVENT
END:VCALENDAR
