BEGIN:VCALENDAR
PRODID:-//eluceo/ical//2.0/EN
VERSION:2.0
CALSCALE:GREGORIAN
BEGIN:VEVENT
UID:d9b8939e09d133dd4952416f6fdc9cf5
DTSTAMP:20260423T173048Z
SUMMARY:Kaffee- und Spieltreff
DESCRIPTION:&lt\;p&gt\;Gemeinschaft bei Kaffee und Gesprächen erleben und 
 für Spielbegeisterte ganz nach Lust Spielmöglichkeiten&lt\;br /&gt\;&lt\
 ;/p&gt\;
DTSTART;VALUE=DATE:20260429
LOCATION:Kirchgemeindehaus
ORGANIZER:mailto:sekretariat@ref-birsfelden.ch
END:VEVENT
END:VCALENDAR
