BEGIN:VCALENDAR
PRODID:-//eluceo/ical//2.0/EN
VERSION:2.0
CALSCALE:GREGORIAN
BEGIN:VEVENT
UID:f2cc569350ffd84948ee81496a39bec0
DTSTAMP:20260423T152006Z
SUMMARY:Gottesdienst
DESCRIPTION:&lt\;p&gt\;Pfarrer Andreas Klaiber &lt\;br /&gt\;Kollekte: HEK
 S&lt\;/p&gt\;&lt\;p&gt\;09:15 - 09:45 Gebet für die Gemeinde im KGH&lt\;/
 p&gt\;&lt\;p&gt\;09:45 - 10:30 Kinderkirche im KGH&lt\;/p&gt\;
DTSTART;VALUE=DATE:20260503
LOCATION:Reformierte Kirche Birsfelden
ORGANIZER:mailto:sekretariat@ref-birsfelden.ch
END:VEVENT
END:VCALENDAR
