BEGIN:VCALENDAR
PRODID:-//eluceo/ical//2.0/EN
VERSION:2.0
CALSCALE:GREGORIAN
BEGIN:VEVENT
UID:f07bd15154c947df806ae627ef701ed3
DTSTAMP:20260423T151939Z
SUMMARY:Jugend &amp\; Glaube
DESCRIPTION:&lt\;p&gt\;Gemeinsamkeit&lt\;/p&gt\;
DTSTART;VALUE=DATE:20260503
LOCATION:Kirchgemeindehaus
ORGANIZER:mailto:sekretariat@ref-birsfelden.ch
END:VEVENT
END:VCALENDAR
