BEGIN:VCALENDAR
PRODID:-//eluceo/ical//2.0/EN
VERSION:2.0
CALSCALE:GREGORIAN
BEGIN:VEVENT
UID:fd2497cc4c3419dc34b0b85959b62004
DTSTAMP:20260423T172255Z
SUMMARY:Gottesdienst
DESCRIPTION:&lt\;p&gt\;Pfarrerin Sibylle Baltisberger &lt\;br /&gt\;Kollekt
 e: Trägerverein Anlaufstelle für Dienstmädchen in Sucre / Bolivien&lt\
 ;/p&gt\;&lt\;p&gt\;09:15 - 09:45 Gebet für die Gemeinde im KGH&lt\;/p&gt\
 ;&lt\;p&gt\;09:45 - 10:30 Kinderkirche im KGH&lt\;/p&gt\;
DTSTART;VALUE=DATE:20260510
LOCATION:Reformierte Kirche Birsfelden
ORGANIZER:mailto:sekretariat@ref-birsfelden.ch
END:VEVENT
END:VCALENDAR
