BEGIN:VCALENDAR
PRODID:-//eluceo/ical//2.0/EN
VERSION:2.0
CALSCALE:GREGORIAN
BEGIN:VEVENT
UID:c93e8c0fe9ba5aea6cf7c915c81ccbd7
DTSTAMP:20260423T172930Z
SUMMARY:Auffahrt Gottesdienst
DESCRIPTION:&lt\;p&gt\;Pfarrerin Sibylle Baltisberger Kollekte: Mission 21
  Gemeindeprojekt&lt\;br /&gt\;&lt\;/p&gt\;
DTSTART;VALUE=DATE:20260517
LOCATION:Im Garten vom Kirchgemeindehaus
ORGANIZER:mailto:sekretariat@ref-birsfelden.ch
END:VEVENT
END:VCALENDAR
