BEGIN:VCALENDAR
PRODID:-//eluceo/ical//2.0/EN
VERSION:2.0
CALSCALE:GREGORIAN
BEGIN:VEVENT
UID:4f812413fc6029bc838fd2bc5298fcd9
DTSTAMP:20260423T174251Z
SUMMARY:Jugend &amp\; Glaube
DESCRIPTION:&lt\;p&gt\;Gemeinsamkeit&lt\;/p&gt\;
DTSTART;VALUE=DATE:20260517
LOCATION:Kirchgemeindehaus
ORGANIZER:mailto:sekretariat@ref-birsfelden.ch
END:VEVENT
END:VCALENDAR
