BEGIN:VCALENDAR
PRODID:-//eluceo/ical//2.0/EN
VERSION:2.0
CALSCALE:GREGORIAN
BEGIN:VEVENT
UID:72560841bfda09cdea08e125d7941818
DTSTAMP:20260423T172527Z
SUMMARY:Gemeindeessen
DESCRIPTION:&lt\;p&gt\;Die Einnahmen gehen an LEED&lt\;/p&gt\;
DTSTART;VALUE=DATE:20260509
LOCATION:Kirchgemeindehaus
ORGANIZER:mailto:sekretariat@ref-birsfelden.ch
END:VEVENT
END:VCALENDAR
