BEGIN:VCALENDAR
PRODID:-//eluceo/ical//2.0/EN
VERSION:2.0
CALSCALE:GREGORIAN
BEGIN:VEVENT
UID:e2db18404a6eb29a9a7084e43158aaae
DTSTAMP:20260423T173255Z
SUMMARY:Kaffee- und Spieltreff für Erwachsene + / - 65
DESCRIPTION:&lt\;p&gt\;Gemeinschaft bei Kaffee und Gesprächen erleben und 
 für Spielbegeisterte mit diversen Spielmöglichkeiten&lt\;br /&gt\;&lt\;/
 p&gt\;
DTSTART;VALUE=DATE:20260513
LOCATION:Kirchgemeindehaus
ORGANIZER:mailto:sekretariat@ref-birsfelden.ch
END:VEVENT
END:VCALENDAR
